BEGIN:VCALENDAR
VERSION:2.0
PRODID:-//Sedona Infinity Spa - ECPv6.15.20//NONSGML v1.0//EN
CALSCALE:GREGORIAN
METHOD:PUBLISH
X-ORIGINAL-URL:https://sedonainfinityspa.com
X-WR-CALDESC:Events for Sedona Infinity Spa
REFRESH-INTERVAL;VALUE=DURATION:PT1H
X-Robots-Tag:noindex
X-PUBLISHED-TTL:PT1H
BEGIN:VTIMEZONE
TZID:America/Phoenix
BEGIN:STANDARD
TZOFFSETFROM:-0700
TZOFFSETTO:-0700
TZNAME:MST
DTSTART:20250101T000000
END:STANDARD
END:VTIMEZONE
BEGIN:VEVENT
DTSTART;VALUE=DATE:20260401
DTEND;VALUE=DATE:20260406
DTSTAMP:20260421T055056
CREATED:20260303T165411Z
LAST-MODIFIED:20260326T152508Z
UID:10002862-1775001600-1775433599@sedonainfinityspa.com
SUMMARY:5 Year Anniversary Celebration
DESCRIPTION:Join us as we celebrate our 5 year anniversary! \n			\n			\n				\n				\n				\n				\n			\n				\n				\n				\n				\n				\n				\n				\n				\n				\n				\n				\n\n\n\n\n\n\n\nThis April\, we’re celebrating five beautiful years of Sedona Infinity Spa with a heartfelt thank-you to our community. From April 1–6\, 2026\, we’re offering exclusive anniversary specials designed to make our most-loved wellness experiences more accessible than ever. Whether you’re a longtime guest or visiting for the first time\, we invite you to join us in honoring five years of healing\, connection\, and transformation with limited-time pricing and complimentary offerings created especially for this milestone celebration. \n\n\n\n\n\n\n\n\n\n\n\n\n\n			\n			\n				\n				\n				\n				\n			\n				\n				\n			\n				\n				\n				\n				\n				\n				\n				\n				\n				\n				\n				\n				\n				\n				\n				\n				\n				\n			\n			\n				\n				\n				\n				\n				\n				\n				\n				\n				\n				\n				\n				\n				\n				\n				\n				Salt Room Open Session Special Sessions\n			\n			\n				\n				\n				\n				\n			\n				\n				\n				\n				\n				\n				\n				\n				\n				\n				\n				Experience our 30-minute Open Salt Room Session\, available April 1–3 as part of our anniversary celebration. Relax in a peaceful public group setting while enjoying the calming\, breath-supportive benefits of halotherapy in our serene salt sanctuary. This special introductory session is perfect for first-time guests and returning clients alike. Spaces are limited and will fill quickly—reservations are highly recommended. \n			\n				See Available Times\n			\n			\n				\n				\n				\n				\n			\n			\n				\n				\n			\n				\n				\n				\n				\n				\n				\n				\n				\n				\n				\n				\n				\n				\n				\n				\n				\n				\n				\n					\n					\n						Chakra Alignment Special\n						Enjoy a private 20-minute Chakra Balancing session for only $5\, designed to gently align your energy centers and restore balance in a calm\, focused setting. This individual experience offers a meaningful reset in a short amount of time. Reservations are recommended. \n					\n				\n			\n			\n				\n				\n				\n				\n				\n				\n				\n				\n				\n				\n					\n					\n						Red Light Therapy Special\n						Experience a 20-minute Red Light Therapy session for just $5 per person during our anniversary celebration. Available for individuals or private groups\, this rejuvenating session supports circulation\, cellular renewal\, and overall vitality. Reservations are recommended as space is limited. \n					\n				\n			\n			\n				\n				\n				\n				\n				\n				\n				\n				\n				\n				\n					\n					\n						Meditation Room Open Sessions\n						Step into our Celestial Meditation Room for a complimentary 20-minute group meditation session\, offered every half hour April 1–3 from 11 AM to 2 PM during our anniversary celebration. This peaceful reset is the perfect way to pause\, breathe\, and reconnect in a serene shared space. First come\, first served\, as space is limited. \n					\n				\n			\n			\n				\n				\n				\n				\n			\n				\n				\n			\n				\n				\n				\n				\n				\n				\n				\n				\n				\n				\n				\n				\n				\n				\n				\n				\n				\n				Relax with additional savings all weekend!\n\n\n\n\n\n\n\nTake advantage of 15% off all 60- and 90-minute services during our anniversary celebration and experience the full depth of our signature therapies at a special rate. This limited-time offer is perfect for those ready to invest in deeper relaxation and lasting results. Offer valid April 1–5 only and cannot be combined with other anniversary specials\, local discounts\, or concentrated sessions. Reserve your appointment today. \n\n\n\n\n\n\n\n\n\n\n\n\n\n				Book Now
URL:https://sedonainfinityspa.com/event/5-year-anniversary-celebration/
LOCATION:Sedona Infinity Spa Space\, 7000 Rte 179\, Sedona\, AZ\, 86351\, United States
ORGANIZER;CN="Sedona Infinity Spa":MAILTO:athyna@sedonainfinityspa.com
END:VEVENT
END:VCALENDAR