BEGIN:VCALENDAR
VERSION:2.0
PRODID:-//Sedona Infinity Spa - ECPv6.15.20//NONSGML v1.0//EN
CALSCALE:GREGORIAN
METHOD:PUBLISH
X-ORIGINAL-URL:https://sedonainfinityspa.com
X-WR-CALDESC:Events for Sedona Infinity Spa
REFRESH-INTERVAL;VALUE=DURATION:PT1H
X-Robots-Tag:noindex
X-PUBLISHED-TTL:PT1H
BEGIN:VTIMEZONE
TZID:America/Phoenix
BEGIN:STANDARD
TZOFFSETFROM:-0700
TZOFFSETTO:-0700
TZNAME:MST
DTSTART:20240101T000000
END:STANDARD
END:VTIMEZONE
BEGIN:VEVENT
DTSTART;TZID=America/Phoenix:20251104T080000
DTEND;TZID=America/Phoenix:20251104T080000
DTSTAMP:20260421T153328
CREATED:20250301T153056Z
LAST-MODIFIED:20251106T151920Z
UID:10001679-1762243200-1762243200@sedonainfinityspa.com
SUMMARY:Crystal Bowl Sound Certification Class
DESCRIPTION:BECOME A CERTIFIED CRYSTAL BOWL SOUND PRACTITIONER\nCrystal Singing Bowls Sound Certification with Gigi Rock\nDiscover the Healing Power of Crystal Singing Bowls! \nJoin Gigi Rock\, the visionary founder of Sedona Infinity Spa and renowned crystal bowl sound practitioner\, for an exclusive Crystal Singing Bowls Sound Certification course. \nWith over 35 years of experience playing and teaching crystal bowls\, Gigi brings deep wisdom\, sound mastery\, and intuitive guidance to every session. \n\n\n\n\n\n\n\n\n\n\n\n\n\n\n\n\nWhat You’ll Learn\nThe Science of Sound Healing \n\nExplore the fundamentals of sound as therapy\nUnderstand vibrational frequency\, entrainment\, and energy alignment\nDiscover how binaural beats affect brainwaves and support deep healing\n\nCrystal Bowl Mastery \n\nLearn how to choose\, care for\, and properly play crystal singing bowls\nUnderstand the difference between clockwise and counterclockwise bowl movement — and how each impacts energy flow\nExplore sound and chakra alignment through intentional toning and harmonic structure\n\nHands-On Experience\nYou’ll spend the second half of the lesson in active\, experiential learning: \n\nPractice playing a full set of crystal singing bowls\nLearn to lead a short sound meditation or mini sound bath\nExplore bowl pairings\, harmonics\, and intuitive flow\nReceive one-on-one guidance from Master Gigi as you build confidence in your personal sound healing technique\n\nCertification\nUpon completion\, you’ll receive a Certificate in Crystal Bowl Sound Therapy\, verifying your foundational understanding of sound healing and practical skill in using crystal bowls to support transformation and well-being. \n\nPerfect For:\n\nMassage therapists\, energy healers\, yoga teachers\, spa professionals\nAnyone ready to deepen their personal healing journey or begin offering sound therapy services\nWellness event hosts and retreat leaders looking to expand their toolkit\n\n\n\n\n\n\n\n\n\n\n\n\n\n\n\n\n\n\n\n\nClass Details\n\nDate: Weekly – Tuesday\nTime: 8:00 AM – 12:00 PM\nLocation: Sedona Infinity Spa\, 7000 Rte 179\, Suite D200-2 (in The Collective Sedona plaza)\nFacilitator: Gigi Rock\nCost: $440 per person\nBring: An open heart\, a notebook\, and a pen/pencil\nPlease note that reservations are required at least one week in advance.\n\nReserve Your Space Here
URL:https://sedonainfinityspa.com/event/crystal-bowl-sound-certification-class-4/2025-11-04/
LOCATION:Sedona Infinity Spa Space\, 7000 Rte 179\, Sedona\, AZ\, 86351\, United States
CATEGORIES:Crystal Singing Bowls,Gigi Rock,Healing,Sedona Infinity Spa
ATTACH;FMTTYPE=image/png:https://sedonainfinityspa.com/wp-content/uploads/2025/03/cbst-cert.png
ORGANIZER;CN="Sedona Infinity Spa":MAILTO:athyna@sedonainfinityspa.com
END:VEVENT
BEGIN:VEVENT
DTSTART;TZID=America/Phoenix:20251111T080000
DTEND;TZID=America/Phoenix:20251111T130000
DTSTAMP:20260421T153328
CREATED:20250301T153056Z
LAST-MODIFIED:20251106T151920Z
UID:10001681-1762848000-1762866000@sedonainfinityspa.com
SUMMARY:Crystal Bowl Sound Certification Class
DESCRIPTION:BECOME A CERTIFIED CRYSTAL BOWL SOUND PRACTITIONER\nCrystal Singing Bowls Sound Certification with Gigi Rock\nDiscover the Healing Power of Crystal Singing Bowls! \nJoin Gigi Rock\, the visionary founder of Sedona Infinity Spa and renowned crystal bowl sound practitioner\, for an exclusive Crystal Singing Bowls Sound Certification course. \nWith over 35 years of experience playing and teaching crystal bowls\, Gigi brings deep wisdom\, sound mastery\, and intuitive guidance to every session. \n\n\n\n\n\n\n\n\n\n\n\n\n\n\n\n\nWhat You’ll Learn\nThe Science of Sound Healing \n\nExplore the fundamentals of sound as therapy\nUnderstand vibrational frequency\, entrainment\, and energy alignment\nDiscover how binaural beats affect brainwaves and support deep healing\n\nCrystal Bowl Mastery \n\nLearn how to choose\, care for\, and properly play crystal singing bowls\nUnderstand the difference between clockwise and counterclockwise bowl movement — and how each impacts energy flow\nExplore sound and chakra alignment through intentional toning and harmonic structure\n\nHands-On Experience\nYou’ll spend the second half of the lesson in active\, experiential learning: \n\nPractice playing a full set of crystal singing bowls\nLearn to lead a short sound meditation or mini sound bath\nExplore bowl pairings\, harmonics\, and intuitive flow\nReceive one-on-one guidance from Master Gigi as you build confidence in your personal sound healing technique\n\nCertification\nUpon completion\, you’ll receive a Certificate in Crystal Bowl Sound Therapy\, verifying your foundational understanding of sound healing and practical skill in using crystal bowls to support transformation and well-being. \n\nPerfect For:\n\nMassage therapists\, energy healers\, yoga teachers\, spa professionals\nAnyone ready to deepen their personal healing journey or begin offering sound therapy services\nWellness event hosts and retreat leaders looking to expand their toolkit\n\n\n\n\n\n\n\n\n\n\n\n\n\n\n\n\n\n\n\n\nClass Details\n\nDate: Weekly – Tuesday\nTime: 8:00 AM – 12:00 PM\nLocation: Sedona Infinity Spa\, 7000 Rte 179\, Suite D200-2 (in The Collective Sedona plaza)\nFacilitator: Gigi Rock\nCost: $440 per person\nBring: An open heart\, a notebook\, and a pen/pencil\nPlease note that reservations are required at least one week in advance.\n\nReserve Your Space Here
URL:https://sedonainfinityspa.com/event/crystal-bowl-sound-certification-class-4/2025-11-11/
LOCATION:Sedona Infinity Spa Space\, 7000 Rte 179\, Sedona\, AZ\, 86351\, United States
CATEGORIES:Crystal Singing Bowls,Gigi Rock,Healing,Sedona Infinity Spa
ATTACH;FMTTYPE=image/png:https://sedonainfinityspa.com/wp-content/uploads/2025/03/cbst-cert.png
ORGANIZER;CN="Sedona Infinity Spa":MAILTO:athyna@sedonainfinityspa.com
END:VEVENT
BEGIN:VEVENT
DTSTART;TZID=America/Phoenix:20251118T080000
DTEND;TZID=America/Phoenix:20251118T120000
DTSTAMP:20260421T153328
CREATED:20250301T153056Z
LAST-MODIFIED:20251106T151920Z
UID:10001683-1763452800-1763467200@sedonainfinityspa.com
SUMMARY:Crystal Bowl Sound Certification Class
DESCRIPTION:BECOME A CERTIFIED CRYSTAL BOWL SOUND PRACTITIONER\nCrystal Singing Bowls Sound Certification with Gigi Rock\nDiscover the Healing Power of Crystal Singing Bowls! \nJoin Gigi Rock\, the visionary founder of Sedona Infinity Spa and renowned crystal bowl sound practitioner\, for an exclusive Crystal Singing Bowls Sound Certification course. \nWith over 35 years of experience playing and teaching crystal bowls\, Gigi brings deep wisdom\, sound mastery\, and intuitive guidance to every session. \n\n\n\n\n\n\n\n\n\n\n\n\n\n\n\n\nWhat You’ll Learn\nThe Science of Sound Healing \n\nExplore the fundamentals of sound as therapy\nUnderstand vibrational frequency\, entrainment\, and energy alignment\nDiscover how binaural beats affect brainwaves and support deep healing\n\nCrystal Bowl Mastery \n\nLearn how to choose\, care for\, and properly play crystal singing bowls\nUnderstand the difference between clockwise and counterclockwise bowl movement — and how each impacts energy flow\nExplore sound and chakra alignment through intentional toning and harmonic structure\n\nHands-On Experience\nYou’ll spend the second half of the lesson in active\, experiential learning: \n\nPractice playing a full set of crystal singing bowls\nLearn to lead a short sound meditation or mini sound bath\nExplore bowl pairings\, harmonics\, and intuitive flow\nReceive one-on-one guidance from Master Gigi as you build confidence in your personal sound healing technique\n\nCertification\nUpon completion\, you’ll receive a Certificate in Crystal Bowl Sound Therapy\, verifying your foundational understanding of sound healing and practical skill in using crystal bowls to support transformation and well-being. \n\nPerfect For:\n\nMassage therapists\, energy healers\, yoga teachers\, spa professionals\nAnyone ready to deepen their personal healing journey or begin offering sound therapy services\nWellness event hosts and retreat leaders looking to expand their toolkit\n\n\n\n\n\n\n\n\n\n\n\n\n\n\n\n\n\n\n\n\nClass Details\n\nDate: Weekly – Tuesday\nTime: 8:00 AM – 12:00 PM\nLocation: Sedona Infinity Spa\, 7000 Rte 179\, Suite D200-2 (in The Collective Sedona plaza)\nFacilitator: Gigi Rock\nCost: $440 per person\nBring: An open heart\, a notebook\, and a pen/pencil\nPlease note that reservations are required at least one week in advance.\n\nReserve Your Space Here
URL:https://sedonainfinityspa.com/event/crystal-bowl-sound-certification-class-4/2025-11-18/
LOCATION:Sedona Infinity Spa Space\, 7000 Rte 179\, Sedona\, AZ\, 86351\, United States
CATEGORIES:Crystal Singing Bowls,Gigi Rock,Healing,Sedona Infinity Spa
ATTACH;FMTTYPE=image/png:https://sedonainfinityspa.com/wp-content/uploads/2025/03/cbst-cert.png
ORGANIZER;CN="Sedona Infinity Spa":MAILTO:athyna@sedonainfinityspa.com
END:VEVENT
BEGIN:VEVENT
DTSTART;TZID=America/Phoenix:20251119T160000
DTEND;TZID=America/Phoenix:20251119T200000
DTSTAMP:20260421T153328
CREATED:20251104T203652Z
LAST-MODIFIED:20251104T210135Z
UID:10002643-1763568000-1763582400@sedonainfinityspa.com
SUMMARY:Candle Magic Class
DESCRIPTION:Candle Magic Class — Manifestation Through Flame\nStep into the sacred glow of candlelight and discover the ancient art of Candle Magic — a timeless ritual that helps you manifest intentions\, clear stagnant energy\, and align your spirit with the rhythm of the Universe. \nIn this immersive\, hands-on experience\, Gigi Rock\, Medicine Woman and founder of Sedona Infinity Spa\, will guide you through both the spiritual and practical foundations of candle magic. You’ll learn how to weave together color\, herbs\, oils\, and sacred symbols to create your very own intention candle — one that radiates your energy and purpose long after class ends. \nWhat You’ll Experience \n\nThe history and meaning behind candle magic\nHow to choose the right color for your intention\nThe sacred art of anointing and dressing your candle with essential oils and herbs\nHow to write affirmations and petitions that manifest clearly\nPerforming your own candle ritual in a safe\, sacred space\nCleansing and closing your energy with sound and intention\n\nYou’ll Take Home \n\nA personalized spell candle\, beautifully crafted and infused with your energy — ready to continue your magic at home.\n\nPerfect For \n\nAnyone seeking spiritual empowerment\, a deeper energetic connection\, or a hands-on way to manifest intentions.\nNo prior experience is required — just an open heart and curiosity for magic.\n\nClass Details \n\nDate: 1st & 3rd Wednesday each month\nTime: 4:00 PM – 8:00 PM\nLocation: Sedona Infinity Spa\, 7000 Rte 179\, Suite D200-2 (in The Collective Sedona plaza)\nFacilitator: Gigi Rock\nCost: $65 per person (includes all materials)\nBring: An open heart and your personal intention\n\nReserve Your Spot \n\nSpace is limited to maintain an intimate\, sacred setting.\nJoin us and ignite your inner light — your journey toward manifestation begins with a single flame.\n\nCLICK HERE TO RESERVE
URL:https://sedonainfinityspa.com/event/candle-magic-class/2025-11-19/
LOCATION:Sedona Infinity Spa Space\, 7000 Rte 179\, Sedona\, AZ\, 86351\, United States
CATEGORIES:Healing,Journey,Sedona Infinity Spa
ATTACH;FMTTYPE=image/jpeg:https://sedonainfinityspa.com/wp-content/uploads/2025/11/candle-magic-logo.jpg
ORGANIZER;CN="Sedona Infinity Spa":MAILTO:athyna@sedonainfinityspa.com
END:VEVENT
BEGIN:VEVENT
DTSTART;TZID=America/Phoenix:20251125T080000
DTEND;TZID=America/Phoenix:20251125T120000
DTSTAMP:20260421T153328
CREATED:20250301T153056Z
LAST-MODIFIED:20251106T151920Z
UID:10002652-1764057600-1764072000@sedonainfinityspa.com
SUMMARY:Crystal Bowl Sound Certification Class
DESCRIPTION:BECOME A CERTIFIED CRYSTAL BOWL SOUND PRACTITIONER\nCrystal Singing Bowls Sound Certification with Gigi Rock\nDiscover the Healing Power of Crystal Singing Bowls! \nJoin Gigi Rock\, the visionary founder of Sedona Infinity Spa and renowned crystal bowl sound practitioner\, for an exclusive Crystal Singing Bowls Sound Certification course. \nWith over 35 years of experience playing and teaching crystal bowls\, Gigi brings deep wisdom\, sound mastery\, and intuitive guidance to every session. \n\n\n\n\n\n\n\n\n\n\n\n\n\n\n\n\nWhat You’ll Learn\nThe Science of Sound Healing \n\nExplore the fundamentals of sound as therapy\nUnderstand vibrational frequency\, entrainment\, and energy alignment\nDiscover how binaural beats affect brainwaves and support deep healing\n\nCrystal Bowl Mastery \n\nLearn how to choose\, care for\, and properly play crystal singing bowls\nUnderstand the difference between clockwise and counterclockwise bowl movement — and how each impacts energy flow\nExplore sound and chakra alignment through intentional toning and harmonic structure\n\nHands-On Experience\nYou’ll spend the second half of the lesson in active\, experiential learning: \n\nPractice playing a full set of crystal singing bowls\nLearn to lead a short sound meditation or mini sound bath\nExplore bowl pairings\, harmonics\, and intuitive flow\nReceive one-on-one guidance from Master Gigi as you build confidence in your personal sound healing technique\n\nCertification\nUpon completion\, you’ll receive a Certificate in Crystal Bowl Sound Therapy\, verifying your foundational understanding of sound healing and practical skill in using crystal bowls to support transformation and well-being. \n\nPerfect For:\n\nMassage therapists\, energy healers\, yoga teachers\, spa professionals\nAnyone ready to deepen their personal healing journey or begin offering sound therapy services\nWellness event hosts and retreat leaders looking to expand their toolkit\n\n\n\n\n\n\n\n\n\n\n\n\n\n\n\n\n\n\n\n\nClass Details\n\nDate: Weekly – Tuesday\nTime: 8:00 AM – 12:00 PM\nLocation: Sedona Infinity Spa\, 7000 Rte 179\, Suite D200-2 (in The Collective Sedona plaza)\nFacilitator: Gigi Rock\nCost: $440 per person\nBring: An open heart\, a notebook\, and a pen/pencil\nPlease note that reservations are required at least one week in advance.\n\nReserve Your Space Here
URL:https://sedonainfinityspa.com/event/crystal-bowl-sound-certification-class-4/2025-11-25/
LOCATION:Sedona Infinity Spa Space\, 7000 Rte 179\, Sedona\, AZ\, 86351\, United States
CATEGORIES:Crystal Singing Bowls,Gigi Rock,Healing,Sedona Infinity Spa
ATTACH;FMTTYPE=image/png:https://sedonainfinityspa.com/wp-content/uploads/2025/03/cbst-cert.png
ORGANIZER;CN="Sedona Infinity Spa":MAILTO:athyna@sedonainfinityspa.com
END:VEVENT
END:VCALENDAR