BEGIN:VCALENDAR
VERSION:2.0
PRODID:-//Sedona Infinity Spa - ECPv6.15.20//NONSGML v1.0//EN
CALSCALE:GREGORIAN
METHOD:PUBLISH
X-WR-CALNAME:Sedona Infinity Spa
X-ORIGINAL-URL:https://sedonainfinityspa.com
X-WR-CALDESC:Events for Sedona Infinity Spa
REFRESH-INTERVAL;VALUE=DURATION:PT1H
X-Robots-Tag:noindex
X-PUBLISHED-TTL:PT1H
BEGIN:VTIMEZONE
TZID:America/Phoenix
BEGIN:STANDARD
TZOFFSETFROM:-0700
TZOFFSETTO:-0700
TZNAME:MST
DTSTART:20250101T000000
END:STANDARD
END:VTIMEZONE
BEGIN:VEVENT
DTSTART;TZID=America/Phoenix:20260121T160000
DTEND;TZID=America/Phoenix:20260121T200000
DTSTAMP:20260422T151846
CREATED:20251104T203652Z
LAST-MODIFIED:20251104T210135Z
UID:10002647-1769011200-1769025600@sedonainfinityspa.com
SUMMARY:Candle Magic Class
DESCRIPTION:Candle Magic Class — Manifestation Through Flame\nStep into the sacred glow of candlelight and discover the ancient art of Candle Magic — a timeless ritual that helps you manifest intentions\, clear stagnant energy\, and align your spirit with the rhythm of the Universe. \nIn this immersive\, hands-on experience\, Gigi Rock\, Medicine Woman and founder of Sedona Infinity Spa\, will guide you through both the spiritual and practical foundations of candle magic. You’ll learn how to weave together color\, herbs\, oils\, and sacred symbols to create your very own intention candle — one that radiates your energy and purpose long after class ends. \nWhat You’ll Experience \n\nThe history and meaning behind candle magic\nHow to choose the right color for your intention\nThe sacred art of anointing and dressing your candle with essential oils and herbs\nHow to write affirmations and petitions that manifest clearly\nPerforming your own candle ritual in a safe\, sacred space\nCleansing and closing your energy with sound and intention\n\nYou’ll Take Home \n\nA personalized spell candle\, beautifully crafted and infused with your energy — ready to continue your magic at home.\n\nPerfect For \n\nAnyone seeking spiritual empowerment\, a deeper energetic connection\, or a hands-on way to manifest intentions.\nNo prior experience is required — just an open heart and curiosity for magic.\n\nClass Details \n\nDate: 1st & 3rd Wednesday each month\nTime: 4:00 PM – 8:00 PM\nLocation: Sedona Infinity Spa\, 7000 Rte 179\, Suite D200-2 (in The Collective Sedona plaza)\nFacilitator: Gigi Rock\nCost: $65 per person (includes all materials)\nBring: An open heart and your personal intention\n\nReserve Your Spot \n\nSpace is limited to maintain an intimate\, sacred setting.\nJoin us and ignite your inner light — your journey toward manifestation begins with a single flame.\n\nCLICK HERE TO RESERVE
URL:https://sedonainfinityspa.com/event/candle-magic-class/2026-01-21/
LOCATION:Sedona Infinity Spa Space\, 7000 Rte 179\, Sedona\, AZ\, 86351\, United States
CATEGORIES:Healing,Journey,Sedona Infinity Spa
ATTACH;FMTTYPE=image/jpeg:https://sedonainfinityspa.com/wp-content/uploads/2025/11/candle-magic-logo.jpg
ORGANIZER;CN="Sedona Infinity Spa":MAILTO:athyna@sedonainfinityspa.com
END:VEVENT
END:VCALENDAR