BEGIN:VCALENDAR
VERSION:2.0
PRODID:-//Sedona Infinity Spa - ECPv6.15.20//NONSGML v1.0//EN
CALSCALE:GREGORIAN
METHOD:PUBLISH
X-WR-CALNAME:Sedona Infinity Spa
X-ORIGINAL-URL:https://sedonainfinityspa.com
X-WR-CALDESC:Events for Sedona Infinity Spa
REFRESH-INTERVAL;VALUE=DURATION:PT1H
X-Robots-Tag:noindex
X-PUBLISHED-TTL:PT1H
BEGIN:VTIMEZONE
TZID:America/Phoenix
BEGIN:STANDARD
TZOFFSETFROM:-0700
TZOFFSETTO:-0700
TZNAME:MST
DTSTART:20240101T000000
END:STANDARD
END:VTIMEZONE
BEGIN:VEVENT
DTSTART;TZID=America/Phoenix:20251111T080000
DTEND;TZID=America/Phoenix:20251111T130000
DTSTAMP:20260421T173347
CREATED:20250301T153056Z
LAST-MODIFIED:20251106T151920Z
UID:10001681-1762848000-1762866000@sedonainfinityspa.com
SUMMARY:Crystal Bowl Sound Certification Class
DESCRIPTION:BECOME A CERTIFIED CRYSTAL BOWL SOUND PRACTITIONER\nCrystal Singing Bowls Sound Certification with Gigi Rock\nDiscover the Healing Power of Crystal Singing Bowls! \nJoin Gigi Rock\, the visionary founder of Sedona Infinity Spa and renowned crystal bowl sound practitioner\, for an exclusive Crystal Singing Bowls Sound Certification course. \nWith over 35 years of experience playing and teaching crystal bowls\, Gigi brings deep wisdom\, sound mastery\, and intuitive guidance to every session. \n\n\n\n\n\n\n\n\n\n\n\n\n\n\n\n\nWhat You’ll Learn\nThe Science of Sound Healing \n\nExplore the fundamentals of sound as therapy\nUnderstand vibrational frequency\, entrainment\, and energy alignment\nDiscover how binaural beats affect brainwaves and support deep healing\n\nCrystal Bowl Mastery \n\nLearn how to choose\, care for\, and properly play crystal singing bowls\nUnderstand the difference between clockwise and counterclockwise bowl movement — and how each impacts energy flow\nExplore sound and chakra alignment through intentional toning and harmonic structure\n\nHands-On Experience\nYou’ll spend the second half of the lesson in active\, experiential learning: \n\nPractice playing a full set of crystal singing bowls\nLearn to lead a short sound meditation or mini sound bath\nExplore bowl pairings\, harmonics\, and intuitive flow\nReceive one-on-one guidance from Master Gigi as you build confidence in your personal sound healing technique\n\nCertification\nUpon completion\, you’ll receive a Certificate in Crystal Bowl Sound Therapy\, verifying your foundational understanding of sound healing and practical skill in using crystal bowls to support transformation and well-being. \n\nPerfect For:\n\nMassage therapists\, energy healers\, yoga teachers\, spa professionals\nAnyone ready to deepen their personal healing journey or begin offering sound therapy services\nWellness event hosts and retreat leaders looking to expand their toolkit\n\n\n\n\n\n\n\n\n\n\n\n\n\n\n\n\n\n\n\n\nClass Details\n\nDate: Weekly – Tuesday\nTime: 8:00 AM – 12:00 PM\nLocation: Sedona Infinity Spa\, 7000 Rte 179\, Suite D200-2 (in The Collective Sedona plaza)\nFacilitator: Gigi Rock\nCost: $440 per person\nBring: An open heart\, a notebook\, and a pen/pencil\nPlease note that reservations are required at least one week in advance.\n\nReserve Your Space Here
URL:https://sedonainfinityspa.com/event/crystal-bowl-sound-certification-class-4/2025-11-11/
LOCATION:Sedona Infinity Spa Space\, 7000 Rte 179\, Sedona\, AZ\, 86351\, United States
CATEGORIES:Crystal Singing Bowls,Gigi Rock,Healing,Sedona Infinity Spa
ATTACH;FMTTYPE=image/png:https://sedonainfinityspa.com/wp-content/uploads/2025/03/cbst-cert.png
ORGANIZER;CN="Sedona Infinity Spa":MAILTO:athyna@sedonainfinityspa.com
END:VEVENT
BEGIN:VEVENT
DTSTART;TZID=America/Phoenix:20251104T080000
DTEND;TZID=America/Phoenix:20251104T080000
DTSTAMP:20260421T173347
CREATED:20250301T153056Z
LAST-MODIFIED:20251106T151920Z
UID:10001679-1762243200-1762243200@sedonainfinityspa.com
SUMMARY:Crystal Bowl Sound Certification Class
DESCRIPTION:BECOME A CERTIFIED CRYSTAL BOWL SOUND PRACTITIONER\nCrystal Singing Bowls Sound Certification with Gigi Rock\nDiscover the Healing Power of Crystal Singing Bowls! \nJoin Gigi Rock\, the visionary founder of Sedona Infinity Spa and renowned crystal bowl sound practitioner\, for an exclusive Crystal Singing Bowls Sound Certification course. \nWith over 35 years of experience playing and teaching crystal bowls\, Gigi brings deep wisdom\, sound mastery\, and intuitive guidance to every session. \n\n\n\n\n\n\n\n\n\n\n\n\n\n\n\n\nWhat You’ll Learn\nThe Science of Sound Healing \n\nExplore the fundamentals of sound as therapy\nUnderstand vibrational frequency\, entrainment\, and energy alignment\nDiscover how binaural beats affect brainwaves and support deep healing\n\nCrystal Bowl Mastery \n\nLearn how to choose\, care for\, and properly play crystal singing bowls\nUnderstand the difference between clockwise and counterclockwise bowl movement — and how each impacts energy flow\nExplore sound and chakra alignment through intentional toning and harmonic structure\n\nHands-On Experience\nYou’ll spend the second half of the lesson in active\, experiential learning: \n\nPractice playing a full set of crystal singing bowls\nLearn to lead a short sound meditation or mini sound bath\nExplore bowl pairings\, harmonics\, and intuitive flow\nReceive one-on-one guidance from Master Gigi as you build confidence in your personal sound healing technique\n\nCertification\nUpon completion\, you’ll receive a Certificate in Crystal Bowl Sound Therapy\, verifying your foundational understanding of sound healing and practical skill in using crystal bowls to support transformation and well-being. \n\nPerfect For:\n\nMassage therapists\, energy healers\, yoga teachers\, spa professionals\nAnyone ready to deepen their personal healing journey or begin offering sound therapy services\nWellness event hosts and retreat leaders looking to expand their toolkit\n\n\n\n\n\n\n\n\n\n\n\n\n\n\n\n\n\n\n\n\nClass Details\n\nDate: Weekly – Tuesday\nTime: 8:00 AM – 12:00 PM\nLocation: Sedona Infinity Spa\, 7000 Rte 179\, Suite D200-2 (in The Collective Sedona plaza)\nFacilitator: Gigi Rock\nCost: $440 per person\nBring: An open heart\, a notebook\, and a pen/pencil\nPlease note that reservations are required at least one week in advance.\n\nReserve Your Space Here
URL:https://sedonainfinityspa.com/event/crystal-bowl-sound-certification-class-4/2025-11-04/
LOCATION:Sedona Infinity Spa Space\, 7000 Rte 179\, Sedona\, AZ\, 86351\, United States
CATEGORIES:Crystal Singing Bowls,Gigi Rock,Healing,Sedona Infinity Spa
ATTACH;FMTTYPE=image/png:https://sedonainfinityspa.com/wp-content/uploads/2025/03/cbst-cert.png
ORGANIZER;CN="Sedona Infinity Spa":MAILTO:athyna@sedonainfinityspa.com
END:VEVENT
BEGIN:VEVENT
DTSTART;TZID=America/Phoenix:20250503T083000
DTEND;TZID=America/Phoenix:20250503T150000
DTSTAMP:20260421T173347
CREATED:20250417T174726Z
LAST-MODIFIED:20250417T185154Z
UID:10001671-1746261000-1746284400@sedonainfinityspa.com
SUMMARY:Feel Good Fair
DESCRIPTION: offering Join us for the Feel Good Fair\, a two-day celebration of wellness\, movement\, and mindful connection at Sedona Infinity Spa\, taking place Friday & Saturday\, May 2–3. Come experience a rejuvenating blend of sound baths\, yoga\, Zumba\, plant walks\, herbal classes\, energy healings\, massages\, and more. \nWhether you’re looking to connect with nature\, move your body\, or deeply relax\, each day is packed with soulful experiences designed to uplift and restore \nIn addition to the wonderful experiences below\, Sedona Infinity Spa will be offering specialties throughout both days\, including mini massage sessions\, energy healings\, herbal education\, and more. Drop in for a class or stay for the whole fair! \nCome feel good—inside and out. \n			\n			\n				\n				\n				\n				\n			\n				\n				\n				\n				\n				\n				\n				\n				\n				\n				\n				Friday – May 2\n			\n			\n				\n				\n				\n				\n			\n				\n				\n				\n				\n				\n				\n				\n				\n				\n				\n				\n					\n					\n						9:00 - 10:00 am \n						Sound Bath with Gigi Rock & Guests\nImmerse yourself in the soothing vibrations of crystal bowls as Gigi\, Amy\, and Ashleigh guide you through a restorative sound journey. This relaxing session promotes deep healing\, balance\, and inner peace. \n					\n				\n			\n			\n				\n				\n				\n				\n				\n				\n				\n				\n				\n				\n					\n					\n						10:00 - 11:00 am \n						Plant Walk with Amy\nJoin Amy for a gentle walk around The Collective as she shares her deep knowledge of local medicinal plants. Learn to identify and connect with the healing herbs growing all around us in the high desert. \n					\n				\n			\n			\n				\n				\n				\n				\n				\n				\n				\n				\n				\n				\n					\n					\n						11:00 - 12:30 pm \n						Phoenix Flow Yoga: A Somatic Alchemy Ritual with Sionna Skye\nAwaken your inner fire through this soulful movement journey rooted in elemental rituals and chakra wisdom. Phoenix Flow blends strength\, release\, and balance to guide you through transformation and heart-centered alignment. \n					\n				\n			\n				Learn More About Phoenix Flow\n			\n			\n				\n				\n				\n				\n			\n				\n				\n				\n				\n				\n				\n				\n				\n				\n				\n				Saturday – May 3\n			\n			\n				\n				\n				\n				\n			\n				\n				\n				\n				\n				\n				\n				\n				\n				\n				\n				\n					\n					\n						8:30 - 9:30 am \n						Sound Bath with Gigi Rock & Guests\nImmerse yourself in the soothing vibrations of crystal bowls as Gigi\, Amy\, and Ashleigh guide you through a restorative sound journey. This relaxing session promotes deep healing\, balance\, and inner peace. \n					\n				\n			\n			\n				\n				\n				\n				\n				\n				\n				\n				\n				\n				\n					\n					\n						9:30 - 10:30 am \n						Plant Walk with Amy\nJoin Amy for a gentle walk around The Collective as she shares her deep knowledge of local medicinal plants. Learn to identify and connect with the healing herbs growing all around us in the high desert. \n					\n				\n			\n			\n				\n				\n				\n				\n				\n				\n				\n				\n				\n				\n					\n					\n						11:00 - 12:00 pm \n						Zumba \nGet moving with your favorite Zumba instructors from Sedona and Cottonwood—Sara\, Emily\, Nicole\, Athyna\, and more! This lively class blends energizing music\, simple choreography\, and contagious fun. All levels welcome and guaranteed to leave you smiling!
URL:https://sedonainfinityspa.com/event/feel-good-fair/2025-05-03/
LOCATION:Sedona Infinity Spa Space\, 7000 Rte 179\, Sedona\, AZ\, 86351\, United States
CATEGORIES:Crystal Singing Bowls,Festival,Healing,Journey,Sedona Infinity Spa,Sound Therapy
ATTACH;FMTTYPE=image/png:https://sedonainfinityspa.com/wp-content/uploads/2025/04/Feel-Good-Fair-banner-scaled.png
ORGANIZER;CN="Sedona Infinity Spa":MAILTO:athyna@sedonainfinityspa.com
END:VEVENT
BEGIN:VEVENT
DTSTART;TZID=America/Phoenix:20250502T090000
DTEND;TZID=America/Phoenix:20250502T150000
DTSTAMP:20260421T173347
CREATED:20250417T174726Z
LAST-MODIFIED:20250417T185154Z
UID:10001669-1746176400-1746198000@sedonainfinityspa.com
SUMMARY:Feel Good Fair
DESCRIPTION: offering Join us for the Feel Good Fair\, a two-day celebration of wellness\, movement\, and mindful connection at Sedona Infinity Spa\, taking place Friday & Saturday\, May 2–3. Come experience a rejuvenating blend of sound baths\, yoga\, Zumba\, plant walks\, herbal classes\, energy healings\, massages\, and more. \nWhether you’re looking to connect with nature\, move your body\, or deeply relax\, each day is packed with soulful experiences designed to uplift and restore \nIn addition to the wonderful experiences below\, Sedona Infinity Spa will be offering specialties throughout both days\, including mini massage sessions\, energy healings\, herbal education\, and more. Drop in for a class or stay for the whole fair! \nCome feel good—inside and out. \n			\n			\n				\n				\n				\n				\n			\n				\n				\n				\n				\n				\n				\n				\n				\n				\n				\n				Friday – May 2\n			\n			\n				\n				\n				\n				\n			\n				\n				\n				\n				\n				\n				\n				\n				\n				\n				\n				\n					\n					\n						9:00 - 10:00 am \n						Sound Bath with Gigi Rock & Guests\nImmerse yourself in the soothing vibrations of crystal bowls as Gigi\, Amy\, and Ashleigh guide you through a restorative sound journey. This relaxing session promotes deep healing\, balance\, and inner peace. \n					\n				\n			\n			\n				\n				\n				\n				\n				\n				\n				\n				\n				\n				\n					\n					\n						10:00 - 11:00 am \n						Plant Walk with Amy\nJoin Amy for a gentle walk around The Collective as she shares her deep knowledge of local medicinal plants. Learn to identify and connect with the healing herbs growing all around us in the high desert. \n					\n				\n			\n			\n				\n				\n				\n				\n				\n				\n				\n				\n				\n				\n					\n					\n						11:00 - 12:30 pm \n						Phoenix Flow Yoga: A Somatic Alchemy Ritual with Sionna Skye\nAwaken your inner fire through this soulful movement journey rooted in elemental rituals and chakra wisdom. Phoenix Flow blends strength\, release\, and balance to guide you through transformation and heart-centered alignment. \n					\n				\n			\n				Learn More About Phoenix Flow\n			\n			\n				\n				\n				\n				\n			\n				\n				\n				\n				\n				\n				\n				\n				\n				\n				\n				Saturday – May 3\n			\n			\n				\n				\n				\n				\n			\n				\n				\n				\n				\n				\n				\n				\n				\n				\n				\n				\n					\n					\n						8:30 - 9:30 am \n						Sound Bath with Gigi Rock & Guests\nImmerse yourself in the soothing vibrations of crystal bowls as Gigi\, Amy\, and Ashleigh guide you through a restorative sound journey. This relaxing session promotes deep healing\, balance\, and inner peace. \n					\n				\n			\n			\n				\n				\n				\n				\n				\n				\n				\n				\n				\n				\n					\n					\n						9:30 - 10:30 am \n						Plant Walk with Amy\nJoin Amy for a gentle walk around The Collective as she shares her deep knowledge of local medicinal plants. Learn to identify and connect with the healing herbs growing all around us in the high desert. \n					\n				\n			\n			\n				\n				\n				\n				\n				\n				\n				\n				\n				\n				\n					\n					\n						11:00 - 12:00 pm \n						Zumba \nGet moving with your favorite Zumba instructors from Sedona and Cottonwood—Sara\, Emily\, Nicole\, Athyna\, and more! This lively class blends energizing music\, simple choreography\, and contagious fun. All levels welcome and guaranteed to leave you smiling!
URL:https://sedonainfinityspa.com/event/feel-good-fair/2025-05-02/
LOCATION:Sedona Infinity Spa Space\, 7000 Rte 179\, Sedona\, AZ\, 86351\, United States
CATEGORIES:Crystal Singing Bowls,Festival,Healing,Journey,Sedona Infinity Spa,Sound Therapy
ATTACH;FMTTYPE=image/png:https://sedonainfinityspa.com/wp-content/uploads/2025/04/Feel-Good-Fair-banner-scaled.png
ORGANIZER;CN="Sedona Infinity Spa":MAILTO:athyna@sedonainfinityspa.com
END:VEVENT
END:VCALENDAR