BEGIN:VCALENDAR
VERSION:2.0
PRODID:-//Sedona Infinity Spa - ECPv6.15.20//NONSGML v1.0//EN
CALSCALE:GREGORIAN
METHOD:PUBLISH
X-WR-CALNAME:Sedona Infinity Spa
X-ORIGINAL-URL:https://sedonainfinityspa.com
X-WR-CALDESC:Events for Sedona Infinity Spa
REFRESH-INTERVAL;VALUE=DURATION:PT1H
X-Robots-Tag:noindex
X-PUBLISHED-TTL:PT1H
BEGIN:VTIMEZONE
TZID:America/Phoenix
BEGIN:STANDARD
TZOFFSETFROM:-0700
TZOFFSETTO:-0700
TZNAME:MST
DTSTART:20240101T000000
END:STANDARD
END:VTIMEZONE
BEGIN:VEVENT
DTSTART;TZID=America/Phoenix:20251203T160000
DTEND;TZID=America/Phoenix:20251203T200000
DTSTAMP:20260421T104613
CREATED:20251104T203652Z
LAST-MODIFIED:20251104T210135Z
UID:10002644-1764777600-1764792000@sedonainfinityspa.com
SUMMARY:Candle Magic Class
DESCRIPTION:Candle Magic Class — Manifestation Through Flame\nStep into the sacred glow of candlelight and discover the ancient art of Candle Magic — a timeless ritual that helps you manifest intentions\, clear stagnant energy\, and align your spirit with the rhythm of the Universe. \nIn this immersive\, hands-on experience\, Gigi Rock\, Medicine Woman and founder of Sedona Infinity Spa\, will guide you through both the spiritual and practical foundations of candle magic. You’ll learn how to weave together color\, herbs\, oils\, and sacred symbols to create your very own intention candle — one that radiates your energy and purpose long after class ends. \nWhat You’ll Experience \n\nThe history and meaning behind candle magic\nHow to choose the right color for your intention\nThe sacred art of anointing and dressing your candle with essential oils and herbs\nHow to write affirmations and petitions that manifest clearly\nPerforming your own candle ritual in a safe\, sacred space\nCleansing and closing your energy with sound and intention\n\nYou’ll Take Home \n\nA personalized spell candle\, beautifully crafted and infused with your energy — ready to continue your magic at home.\n\nPerfect For \n\nAnyone seeking spiritual empowerment\, a deeper energetic connection\, or a hands-on way to manifest intentions.\nNo prior experience is required — just an open heart and curiosity for magic.\n\nClass Details \n\nDate: 1st & 3rd Wednesday each month\nTime: 4:00 PM – 8:00 PM\nLocation: Sedona Infinity Spa\, 7000 Rte 179\, Suite D200-2 (in The Collective Sedona plaza)\nFacilitator: Gigi Rock\nCost: $65 per person (includes all materials)\nBring: An open heart and your personal intention\n\nReserve Your Spot \n\nSpace is limited to maintain an intimate\, sacred setting.\nJoin us and ignite your inner light — your journey toward manifestation begins with a single flame.\n\nCLICK HERE TO RESERVE
URL:https://sedonainfinityspa.com/event/candle-magic-class/2025-12-03/
LOCATION:Sedona Infinity Spa Space\, 7000 Rte 179\, Sedona\, AZ\, 86351\, United States
CATEGORIES:Healing,Journey,Sedona Infinity Spa
ATTACH;FMTTYPE=image/jpeg:https://sedonainfinityspa.com/wp-content/uploads/2025/11/candle-magic-logo.jpg
ORGANIZER;CN="Sedona Infinity Spa":MAILTO:athyna@sedonainfinityspa.com
END:VEVENT
BEGIN:VEVENT
DTSTART;TZID=America/Phoenix:20251204T130000
DTEND;TZID=America/Phoenix:20251204T170000
DTSTAMP:20260421T104613
CREATED:20251019T171831Z
LAST-MODIFIED:20251104T210945Z
UID:10001689-1764853200-1764867600@sedonainfinityspa.com
SUMMARY:Tarot & Oracle Mastery with Gigi Rock – 2-Day Intensive
DESCRIPTION:A Two-Day Journey into Intuition\, Symbolism & Sacred Connection\nStep into the mystical world of Tarot and Oracle cards with Gigi Rock\, an intuitive reader and spiritual teacher whose connection to the cards began in childhood. Gigi has been reading cards since the age of nine\, when she first learned to divine messages using an ordinary deck of playing cards — long before she ever owned her first Tarot deck. What began as a childhood curiosity blossomed into a lifelong gift of intuition\, insight\, and connection to spirit. \nNow\, Gigi invites you to join her for a transformative two-day experience designed to help you awaken your own inner knowing and learn to read the language of the cards with confidence and heart. \n\nWhat You’ll Experience\nOver the course of two inspiring days\, you’ll:\n\nDiscover the difference between Tarot and Oracle cards\nLearn to create sacred space and clear your energy before readings\nExplore the Major and Minor Arcana\, suits\, numerology\, and intuitive storytelling\nPractice popular spreads such as the Three-Card and Celtic Cross\nStrengthen your intuitive connection through meditation and journaling\nGain confidence reading for yourself and others\nIntegrate sound\, crystals\, and essential oils into your intuitive practice\n\n\nWhat’s Included\n\nHands-on guidance from Gigi Rock\nBeginner-friendly workbook & journal prompts\nUse of the tarot deck you will receive when booking your session\nCleansing tools (sage or palo santo)\nCertificate of Completion\n\n\nCourse Details\nDuration: 2 Days – 4-5 hours (Thursday & Friday)Location: Sedona Infinity Spa – 4525 N. State Route 89A\, Sedona\, AZTimes: 1:00 PM – 5:00 PM each dayInvestment: \n\nRegular: $375\nWalk-In: $475 (subject to space)\nAdd-On Private Reading: +$75\n\n\nWho Should Attend\nThis class is for anyone drawn to the wisdom of the cards — facilitators in healing\, lightworkers\, energy practitioners\, or those simply seeking a deeper connection with spirit. No prior experience is necessary — just an open heart and willingness to explore your intuition. \n\nReserve Your Spot\nSpaces are limited to ensure personalized attention. \nDiscover the ancient art of divination\, awaken your intuitive voice\, and step into your role as a sacred messenger of light.Join Gigi Rock for this unforgettable journey into the heart of the Tarot and Oracle. \nRegister Here
URL:https://sedonainfinityspa.com/event/tarot-oracle-mastery-with-gigi-rock-2-day-intensive/2025-12-04/
LOCATION:Sedona Infinity Spa Space\, 7000 Rte 179\, Sedona\, AZ\, 86351\, United States
ATTACH;FMTTYPE=image/png:https://sedonainfinityspa.com/wp-content/uploads/2025/10/Tarot-photo-e1762289113670.png
ORGANIZER;CN="Sedona Infinity Spa":MAILTO:athyna@sedonainfinityspa.com
END:VEVENT
BEGIN:VEVENT
DTSTART;TZID=America/Phoenix:20251211T130000
DTEND;TZID=America/Phoenix:20251211T170000
DTSTAMP:20260421T104613
CREATED:20251019T171831Z
LAST-MODIFIED:20251104T210945Z
UID:10002648-1765458000-1765472400@sedonainfinityspa.com
SUMMARY:Tarot & Oracle Mastery with Gigi Rock – 2-Day Intensive
DESCRIPTION:A Two-Day Journey into Intuition\, Symbolism & Sacred Connection\nStep into the mystical world of Tarot and Oracle cards with Gigi Rock\, an intuitive reader and spiritual teacher whose connection to the cards began in childhood. Gigi has been reading cards since the age of nine\, when she first learned to divine messages using an ordinary deck of playing cards — long before she ever owned her first Tarot deck. What began as a childhood curiosity blossomed into a lifelong gift of intuition\, insight\, and connection to spirit. \nNow\, Gigi invites you to join her for a transformative two-day experience designed to help you awaken your own inner knowing and learn to read the language of the cards with confidence and heart. \n\nWhat You’ll Experience\nOver the course of two inspiring days\, you’ll:\n\nDiscover the difference between Tarot and Oracle cards\nLearn to create sacred space and clear your energy before readings\nExplore the Major and Minor Arcana\, suits\, numerology\, and intuitive storytelling\nPractice popular spreads such as the Three-Card and Celtic Cross\nStrengthen your intuitive connection through meditation and journaling\nGain confidence reading for yourself and others\nIntegrate sound\, crystals\, and essential oils into your intuitive practice\n\n\nWhat’s Included\n\nHands-on guidance from Gigi Rock\nBeginner-friendly workbook & journal prompts\nUse of the tarot deck you will receive when booking your session\nCleansing tools (sage or palo santo)\nCertificate of Completion\n\n\nCourse Details\nDuration: 2 Days – 4-5 hours (Thursday & Friday)Location: Sedona Infinity Spa – 4525 N. State Route 89A\, Sedona\, AZTimes: 1:00 PM – 5:00 PM each dayInvestment: \n\nRegular: $375\nWalk-In: $475 (subject to space)\nAdd-On Private Reading: +$75\n\n\nWho Should Attend\nThis class is for anyone drawn to the wisdom of the cards — facilitators in healing\, lightworkers\, energy practitioners\, or those simply seeking a deeper connection with spirit. No prior experience is necessary — just an open heart and willingness to explore your intuition. \n\nReserve Your Spot\nSpaces are limited to ensure personalized attention. \nDiscover the ancient art of divination\, awaken your intuitive voice\, and step into your role as a sacred messenger of light.Join Gigi Rock for this unforgettable journey into the heart of the Tarot and Oracle. \nRegister Here
URL:https://sedonainfinityspa.com/event/tarot-oracle-mastery-with-gigi-rock-2-day-intensive/2025-12-11/
LOCATION:Sedona Infinity Spa Space\, 7000 Rte 179\, Sedona\, AZ\, 86351\, United States
ATTACH;FMTTYPE=image/png:https://sedonainfinityspa.com/wp-content/uploads/2025/10/Tarot-photo-e1762289113670.png
ORGANIZER;CN="Sedona Infinity Spa":MAILTO:athyna@sedonainfinityspa.com
END:VEVENT
BEGIN:VEVENT
DTSTART;TZID=America/Phoenix:20251217T160000
DTEND;TZID=America/Phoenix:20251217T200000
DTSTAMP:20260421T104613
CREATED:20251104T203652Z
LAST-MODIFIED:20251104T210135Z
UID:10002645-1765987200-1766001600@sedonainfinityspa.com
SUMMARY:Candle Magic Class
DESCRIPTION:Candle Magic Class — Manifestation Through Flame\nStep into the sacred glow of candlelight and discover the ancient art of Candle Magic — a timeless ritual that helps you manifest intentions\, clear stagnant energy\, and align your spirit with the rhythm of the Universe. \nIn this immersive\, hands-on experience\, Gigi Rock\, Medicine Woman and founder of Sedona Infinity Spa\, will guide you through both the spiritual and practical foundations of candle magic. You’ll learn how to weave together color\, herbs\, oils\, and sacred symbols to create your very own intention candle — one that radiates your energy and purpose long after class ends. \nWhat You’ll Experience \n\nThe history and meaning behind candle magic\nHow to choose the right color for your intention\nThe sacred art of anointing and dressing your candle with essential oils and herbs\nHow to write affirmations and petitions that manifest clearly\nPerforming your own candle ritual in a safe\, sacred space\nCleansing and closing your energy with sound and intention\n\nYou’ll Take Home \n\nA personalized spell candle\, beautifully crafted and infused with your energy — ready to continue your magic at home.\n\nPerfect For \n\nAnyone seeking spiritual empowerment\, a deeper energetic connection\, or a hands-on way to manifest intentions.\nNo prior experience is required — just an open heart and curiosity for magic.\n\nClass Details \n\nDate: 1st & 3rd Wednesday each month\nTime: 4:00 PM – 8:00 PM\nLocation: Sedona Infinity Spa\, 7000 Rte 179\, Suite D200-2 (in The Collective Sedona plaza)\nFacilitator: Gigi Rock\nCost: $65 per person (includes all materials)\nBring: An open heart and your personal intention\n\nReserve Your Spot \n\nSpace is limited to maintain an intimate\, sacred setting.\nJoin us and ignite your inner light — your journey toward manifestation begins with a single flame.\n\nCLICK HERE TO RESERVE
URL:https://sedonainfinityspa.com/event/candle-magic-class/2025-12-17/
LOCATION:Sedona Infinity Spa Space\, 7000 Rte 179\, Sedona\, AZ\, 86351\, United States
CATEGORIES:Healing,Journey,Sedona Infinity Spa
ATTACH;FMTTYPE=image/jpeg:https://sedonainfinityspa.com/wp-content/uploads/2025/11/candle-magic-logo.jpg
ORGANIZER;CN="Sedona Infinity Spa":MAILTO:athyna@sedonainfinityspa.com
END:VEVENT
END:VCALENDAR